BEGIN:VCALENDAR
VERSION:2.0
PRODID:Open Grid Europe
BEGIN:VEVENT
UID:oge-event-749fec7e-fba0-4b1c-97f7-5f4a83098bfd
DTSTART:20260611T080000Z
SEQUENCE:0
TRANSP:OPAQUE
DTEND:20260611T090000Z
URL:https://deltarhinecorridor.com/de/events/kundenveranstaltung-oge-live-2
 026
LOCATION:Online \, Essen
SUMMARY:Kundenveranstaltung OGE Live 2026
CLASS:PUBLIC
DESCRIPTION:Online\, kompakt und kostenfrei. OGE Live 2026 vermittelt aktue
 lle und klar aufbereitete Einblicke in die aktuelle Marktsituation\, infor
 miert zum Status des Netzentwicklungsplans und liefert Erkenntnisse aus de
 r LFP 2.0 und der Marktabfrage sowie zur T‑Stück‑Vermarktung. 
DTSTAMP:20260421T181947Z
END:VEVENT
END:VCALENDAR